BEGIN:VCALENDAR
VERSION:2.0
PRODID:-//Lemon Berry Studio - ECPv5.9.1//NONSGML v1.0//EN
CALSCALE:GREGORIAN
METHOD:PUBLISH
X-WR-CALNAME:Lemon Berry Studio
X-ORIGINAL-URL:http://lemonberrystudio.com
X-WR-CALDESC:Događaji za Lemon Berry Studio
BEGIN:VTIMEZONE
TZID:Europe/Belgrade
BEGIN:DAYLIGHT
TZOFFSETFROM:+0100
TZOFFSETTO:+0200
TZNAME:CEST
DTSTART:20230326T010000
END:DAYLIGHT
BEGIN:STANDARD
TZOFFSETFROM:+0200
TZOFFSETTO:+0100
TZNAME:CET
DTSTART:20231029T010000
END:STANDARD
END:VTIMEZONE
BEGIN:VEVENT
DTSTART;TZID=Europe/Belgrade:20230506T130000
DTEND;TZID=Europe/Belgrade:20230506T160000
DTSTAMP:20260420T202614
CREATED:20230501T100002Z
LAST-MODIFIED:20230501T103239Z
UID:4880-1683378000-1683388800@lemonberrystudio.com
SUMMARY:DIZAJNIRAJ KIŠOBRAN
DESCRIPTION:Dizajniraj kišobran uz stručnu pomoć i instrukcije\, bez obzira na iskustvo i slikarsko umeće.\nOpusti se i tako relaksiranog uma napravi prava unikatna\, upotrebna umetnička dela za sebe ili kao poklon za drage osobe.\nSlika se vodotpornim bojama na kišobranu bele boje. \nSav materijal vas čeka\, od kišobrana do boja i stručne pomoći i instrukcija\, a vi donosite dobro raspoloženje! \n\nCENA po osobi : 3.000 dinara
URL:http://lemonberrystudio.com/dogadjaj/dizajniraj-kisobran-2/
ATTACH;FMTTYPE=image/jpeg:http://lemonberrystudio.com/wp-content/uploads/2022/01/Dizajniraj-kisobran.jpeg
END:VEVENT
END:VCALENDAR