BEGIN:VCALENDAR
VERSION:2.0
PRODID:-//Lemon Berry Studio - ECPv5.9.1//NONSGML v1.0//EN
CALSCALE:GREGORIAN
METHOD:PUBLISH
X-WR-CALNAME:Lemon Berry Studio
X-ORIGINAL-URL:http://lemonberrystudio.com
X-WR-CALDESC:Događaji za Lemon Berry Studio
BEGIN:VTIMEZONE
TZID:Europe/Belgrade
BEGIN:DAYLIGHT
TZOFFSETFROM:+0100
TZOFFSETTO:+0200
TZNAME:CEST
DTSTART:20240331T010000
END:DAYLIGHT
BEGIN:STANDARD
TZOFFSETFROM:+0200
TZOFFSETTO:+0100
TZNAME:CET
DTSTART:20241027T010000
END:STANDARD
END:VTIMEZONE
BEGIN:VEVENT
DTSTART;TZID=Europe/Belgrade:20240217T130000
DTEND;TZID=Europe/Belgrade:20240217T160000
DTSTAMP:20260421T050429
CREATED:20240129T193656Z
LAST-MODIFIED:20240129T193656Z
UID:5216-1708174800-1708185600@lemonberrystudio.com
SUMMARY:EPOKSID slikanje
DESCRIPTION:Koristeći pesak\, kamen\, školjke i ostale predmete nađene u prirodi\, postavljamo plažu na slici\, a preostali deo površine zalivamo epoksidnom smolom kojom realno dočaravamo more. \nKompletan materijal\, alat\, i stručne instrukcije su obezbeđeni. Ukoliko imate neke svoje školjkice koje ste doneli sa letovanja ponesite ih sa sobom da ih postavite na svoju plažu. \nBroj učesnika je ograničen. \nCena: \n\nFormat 30 x 40 : 4\,200 din po osobi\nFormat 20 x 25 : 3.200 din po osobi
URL:http://lemonberrystudio.com/dogadjaj/epoksid-slikanje-21/
ATTACH;FMTTYPE=image/jpeg:http://lemonberrystudio.com/wp-content/uploads/2024/01/Epoksid-slikanje.jpeg
END:VEVENT
END:VCALENDAR