BEGIN:VCALENDAR
VERSION:2.0
PRODID:-//Lemon Berry Studio - ECPv5.9.1//NONSGML v1.0//EN
CALSCALE:GREGORIAN
METHOD:PUBLISH
X-WR-CALNAME:Lemon Berry Studio
X-ORIGINAL-URL:http://lemonberrystudio.com
X-WR-CALDESC:Događaji za Lemon Berry Studio
BEGIN:VTIMEZONE
TZID:Europe/Belgrade
BEGIN:DAYLIGHT
TZOFFSETFROM:+0100
TZOFFSETTO:+0200
TZNAME:CEST
DTSTART:20250330T010000
END:DAYLIGHT
BEGIN:STANDARD
TZOFFSETFROM:+0200
TZOFFSETTO:+0100
TZNAME:CET
DTSTART:20251026T010000
END:STANDARD
END:VTIMEZONE
BEGIN:VEVENT
DTSTART;TZID=Europe/Belgrade:20250412T170000
DTEND;TZID=Europe/Belgrade:20250412T200000
DTSTAMP:20260421T154021
CREATED:20250330T191444Z
LAST-MODIFIED:20250330T191634Z
UID:5650-1744477200-1744488000@lemonberrystudio.com
SUMMARY:IZRADA CVETA OD KREP PAPIRA
DESCRIPTION:Create & Relax\nOpusti se i tako relaksiranog uma napravi prava unikatna\, upotrebna umetnička dela za sebe ili kao poklon za drage osobe.\nNa ovoj radionici ćeš napraviti cvet od krep papira i dodatnih elemenata. Radionicu vodi naša Marina\, čiji je poslednji umetnički projekat upravo izrada papirnog\, džinovskog\, cveća. \nKompletan materijal i alat su obezbeđeni\, posluženje i prijatna atmosfera se podrazumevaju. \nCena sa prazničnim popustom: 3.000 din po osobi \n 
URL:http://lemonberrystudio.com/dogadjaj/izrada-cveta-od-krep-papira/
ATTACH;FMTTYPE=image/jpeg:http://lemonberrystudio.com/wp-content/uploads/2025/03/narcis-od-papira-e1743362122218.jpg
END:VEVENT
END:VCALENDAR