BEGIN:VCALENDAR
VERSION:2.0
PRODID:-//Lemon Berry Studio - ECPv5.9.1//NONSGML v1.0//EN
CALSCALE:GREGORIAN
METHOD:PUBLISH
X-WR-CALNAME:Lemon Berry Studio
X-ORIGINAL-URL:http://lemonberrystudio.com
X-WR-CALDESC:Događaji za Lemon Berry Studio
BEGIN:VTIMEZONE
TZID:Europe/Belgrade
BEGIN:DAYLIGHT
TZOFFSETFROM:+0100
TZOFFSETTO:+0200
TZNAME:CEST
DTSTART:20240331T010000
END:DAYLIGHT
BEGIN:STANDARD
TZOFFSETFROM:+0200
TZOFFSETTO:+0100
TZNAME:CET
DTSTART:20241027T010000
END:STANDARD
END:VTIMEZONE
BEGIN:VEVENT
DTSTART;TZID=Europe/Belgrade:20240427T130000
DTEND;TZID=Europe/Belgrade:20240427T160000
DTSTAMP:20260421T052912
CREATED:20240330T175620Z
LAST-MODIFIED:20240330T183913Z
UID:5277-1714222800-1714233600@lemonberrystudio.com
SUMMARY:IZRADA POSUDE / NESESERA OD VUNE + PREDAVANJE O BOJENJU PRIRODNIM BOJAMA
DESCRIPTION:Izrada činijice ili torbice od bele vune sa dekoracijom od vune bojene prirodnim bojama. \nRadionice će pratiti predavanje o bojenju prirodnim bojama po receptima sačuvanim u Etnografskom muzeju ( predavač Marija Vujčić) i istoriji tekstila (predavač Jelena Batalo Zdravković\, arheolog). \nCena: 4.000 din \n 
URL:http://lemonberrystudio.com/dogadjaj/izrada-posude-nesesera-od-vune-i-predavanje-o-bojenju-prirodnim-bojama/
ATTACH;FMTTYPE=image/jpeg:http://lemonberrystudio.com/wp-content/uploads/2024/03/posude-od-vune.jpg
END:VEVENT
END:VCALENDAR