BEGIN:VCALENDAR
VERSION:2.0
PRODID:-//Lemon Berry Studio - ECPv5.9.1//NONSGML v1.0//EN
CALSCALE:GREGORIAN
METHOD:PUBLISH
X-WR-CALNAME:Lemon Berry Studio
X-ORIGINAL-URL:http://lemonberrystudio.com
X-WR-CALDESC:Događaji za Lemon Berry Studio
BEGIN:VTIMEZONE
TZID:Europe/Belgrade
BEGIN:DAYLIGHT
TZOFFSETFROM:+0100
TZOFFSETTO:+0200
TZNAME:CEST
DTSTART:20250330T010000
END:DAYLIGHT
BEGIN:STANDARD
TZOFFSETFROM:+0200
TZOFFSETTO:+0100
TZNAME:CET
DTSTART:20251026T010000
END:STANDARD
END:VTIMEZONE
BEGIN:VEVENT
DTSTART;TZID=Europe/Belgrade:20250322T170000
DTEND;TZID=Europe/Belgrade:20250322T200000
DTSTAMP:20260421T154053
CREATED:20250228T184330Z
LAST-MODIFIED:20250302T200951Z
UID:5632-1742662800-1742673600@lemonberrystudio.com
SUMMARY:MASTER KLAS KOLAŽ / SLIKANJE NA ČAŠAMA
DESCRIPTION:ODABERI RADIONICU MASTERKLAS KOLAŽ ILI SLIKANJE NA ČAŠAMA\nMASTERKLAS KOLAŽ\nNa ovoj radionici imaćete priliku da se upoznate sa tehnikom ručne izrade kolaža (cut and paste)\, koje alate da koristite i kako da kombinujete različite materijale\, teksture i boje.\nSaznaćete koje sve vrste i stilovi kolaža postoje.\n\nVidećete na licu mesta kako izgleda proces izrade jednog kolaža (od odabira i selekcije materijala\, sklapanja kompozicije i na kraju samu izradu).\nNaučićete kako da kombinujete različite slike u jednu celinu.\n\nCENA: 3.000 dinara\n\n\nSLIKANJE NA ČAŠAMA\nUz stručnu pomoć i instrukcije\, OSLIKAJTE SAMI DVE ČAŠE!\nBez obzira na iskustvo i slikarsko umeće\, opustićete se i tako relaksiranog uma napraviti prava mala umetnička dela za svoj dom ili kao poklon za drage osobe.\nDve čaše\, kompletan materijal\, posluženje i stručna pomoć instruktorke vas čekaju. \n\nCena po osobi: 3.000 dinara individualni dolazak\nCena po osobi: 2.600 dinara za dve i više osoba
URL:http://lemonberrystudio.com/dogadjaj/master-klas-kolaz-slikanje-na-casama/
ATTACH;FMTTYPE=image/jpeg:http://lemonberrystudio.com/wp-content/uploads/2020/06/Masterklas-Ivana_KOLAŽ.jpg
END:VEVENT
END:VCALENDAR