BEGIN:VCALENDAR
VERSION:2.0
PRODID:-//Lemon Berry Studio - ECPv5.9.1//NONSGML v1.0//EN
CALSCALE:GREGORIAN
METHOD:PUBLISH
X-WR-CALNAME:Lemon Berry Studio
X-ORIGINAL-URL:http://lemonberrystudio.com
X-WR-CALDESC:Događaji za Lemon Berry Studio
BEGIN:VTIMEZONE
TZID:Europe/Belgrade
BEGIN:DAYLIGHT
TZOFFSETFROM:+0100
TZOFFSETTO:+0200
TZNAME:CEST
DTSTART:20250330T010000
END:DAYLIGHT
BEGIN:STANDARD
TZOFFSETFROM:+0200
TZOFFSETTO:+0100
TZNAME:CET
DTSTART:20251026T010000
END:STANDARD
END:VTIMEZONE
BEGIN:VEVENT
DTSTART;TZID=Europe/Belgrade:20250525T170000
DTEND;TZID=Europe/Belgrade:20250525T200000
DTSTAMP:20260421T172404
CREATED:20250424T193141Z
LAST-MODIFIED:20250424T193141Z
UID:5677-1748192400-1748203200@lemonberrystudio.com
SUMMARY:MASTER KLAS KOLAŽ
DESCRIPTION:Na ovoj radionici imaćete priliku da se upoznate sa tehnikom ručne izrade kolaža (cut and paste)\, koje alate da koristite i kako da kombinujete različite materijale\, teksture i boje.\nSaznaćete koje sve vrste i stilovi kolaža postoje.\n\nVidećete na licu mesta kako izgleda proces izrade jednog kolaža (od odabira i selekcije materijala\, sklapanja kompozicije i na kraju samu izradu).\nNaučićete kako da kombinujete različite slike u jednu celinu.\n\nCENA: 3.000 dinara
URL:http://lemonberrystudio.com/dogadjaj/master-klas-kolaz/
ATTACH;FMTTYPE=image/jpeg:http://lemonberrystudio.com/wp-content/uploads/2020/11/Masterklas-Kolaž.jpg
END:VEVENT
END:VCALENDAR