BEGIN:VCALENDAR
VERSION:2.0
PRODID:-//Lemon Berry Studio - ECPv5.9.1//NONSGML v1.0//EN
CALSCALE:GREGORIAN
METHOD:PUBLISH
X-WR-CALNAME:Lemon Berry Studio
X-ORIGINAL-URL:http://lemonberrystudio.com
X-WR-CALDESC:Događaji za Lemon Berry Studio
BEGIN:VTIMEZONE
TZID:Europe/Belgrade
BEGIN:DAYLIGHT
TZOFFSETFROM:+0100
TZOFFSETTO:+0200
TZNAME:CEST
DTSTART:20230326T010000
END:DAYLIGHT
BEGIN:STANDARD
TZOFFSETFROM:+0200
TZOFFSETTO:+0100
TZNAME:CET
DTSTART:20231029T010000
END:STANDARD
END:VTIMEZONE
BEGIN:VEVENT
DTSTART;TZID=Europe/Belgrade:20230225T170000
DTEND;TZID=Europe/Belgrade:20230225T200000
DTSTAMP:20260420T095426
CREATED:20230128T172529Z
LAST-MODIFIED:20230128T172529Z
UID:4693-1677344400-1677355200@lemonberrystudio.com
SUMMARY:NAKIT OD GLINE / marbling tehnika
DESCRIPTION:VAJAJ & Relax\nNa ovoj tročasovnoj radionici izradićeš nakit od gline i za to ti nije potrebno iskustvo. \nZabavljaćeš i opuštati ruke i um polimernom glinom. Mešaćeš gline raznih boja\, valjati ih i mesiti kako bi se postigao efekat mermera. Napravićeš i poneti sa sobom dva – tri komada nakita – ogrlicu\, narukvicu\, prsten\, privezak\, … \nKompletan materijal i alat\, posluženje i stručne instrukcije su obezbeđeni. \n\nCena: 3.000 dinara po osobi\n\n 
URL:http://lemonberrystudio.com/dogadjaj/nakit-od-gline-marbling-tehnika/
ATTACH;FMTTYPE=image/jpeg:http://lemonberrystudio.com/wp-content/uploads/2022/03/Vajaonica-nakita.jpeg
END:VEVENT
END:VCALENDAR