BEGIN:VCALENDAR
VERSION:2.0
PRODID:-//Lemon Berry Studio - ECPv5.9.1//NONSGML v1.0//EN
CALSCALE:GREGORIAN
METHOD:PUBLISH
X-WR-CALNAME:Lemon Berry Studio
X-ORIGINAL-URL:http://lemonberrystudio.com
X-WR-CALDESC:Događaji za Lemon Berry Studio
BEGIN:VTIMEZONE
TZID:Europe/Belgrade
BEGIN:DAYLIGHT
TZOFFSETFROM:+0100
TZOFFSETTO:+0200
TZNAME:CEST
DTSTART:20250330T010000
END:DAYLIGHT
BEGIN:STANDARD
TZOFFSETFROM:+0200
TZOFFSETTO:+0100
TZNAME:CET
DTSTART:20251026T010000
END:STANDARD
END:VTIMEZONE
BEGIN:VEVENT
DTSTART;TZID=Europe/Belgrade:20250426T170000
DTEND;TZID=Europe/Belgrade:20250426T200000
DTSTAMP:20260421T172648
CREATED:20250330T193208Z
LAST-MODIFIED:20250330T193208Z
UID:5658-1745686800-1745697600@lemonberrystudio.com
SUMMARY:Novo!!! OSLIKAJ OTIRAČ
DESCRIPTION:Create & Relax\nOpusti se i tako relaksiranog uma napravi prava unikatna\, upotrebna umetnička dela za sebe ili kao poklon za drage osobe.\nDa unesemo u kuću sveži vazduh proleća krenimo od originalnog otirača. Oslikavaćemo otirače postojanim bojama motivima po tvojoj želji. Pripremićemo ti naše predloge ali kao i uvek kod nas ohrabrujemo tvoju maštu i inspiraciju pa možeš da naslikaš što god želiš. \nDobra atmosfera\, posluženje i naša podrška te čekaju.  Kompleatn materijal i alat su obezbeđeni. \n\nCena: 3\,000.00 dinara po osobi
URL:http://lemonberrystudio.com/dogadjaj/novo-oslikaj-otirac/
ATTACH;FMTTYPE=image/jpeg:http://lemonberrystudio.com/wp-content/uploads/2025/03/otirač-leptir.jpg
END:VEVENT
END:VCALENDAR