BEGIN:VCALENDAR
VERSION:2.0
PRODID:-//Lemon Berry Studio - ECPv5.9.1//NONSGML v1.0//EN
CALSCALE:GREGORIAN
METHOD:PUBLISH
X-WR-CALNAME:Lemon Berry Studio
X-ORIGINAL-URL:http://lemonberrystudio.com
X-WR-CALDESC:Događaji za Lemon Berry Studio
BEGIN:VTIMEZONE
TZID:Europe/Belgrade
BEGIN:DAYLIGHT
TZOFFSETFROM:+0100
TZOFFSETTO:+0200
TZNAME:CEST
DTSTART:20230326T010000
END:DAYLIGHT
BEGIN:STANDARD
TZOFFSETFROM:+0200
TZOFFSETTO:+0100
TZNAME:CET
DTSTART:20231029T010000
END:STANDARD
END:VTIMEZONE
BEGIN:VEVENT
DTSTART;TZID=Europe/Belgrade:20230304T130000
DTEND;TZID=Europe/Belgrade:20230304T160000
DTSTAMP:20260420T112702
CREATED:20230228T112903Z
LAST-MODIFIED:20230228T112903Z
UID:4715-1677934800-1677945600@lemonberrystudio.com
SUMMARY:PODMETAČI OD VUNE
DESCRIPTION:Pustovanje vune je drevna tehnika starija od tkanja. Od iščešljane vune se uz pomoć sapuna\, vode i mehaničkog delovanja\, dobija pust\, vuneno platno. \nNa ovoj radionici ćemo od pripremljene vune izrađivati podmetače za sto. \nRadionicu vodi Marija Vujčić\, koja se bavi pustovanjem vune više od 10 godina. Počelo je kao hobi\, a od 2018. godine hobi prerasta u biznis „Magda suveniri“. Marija izrađuje predmete od pustovane vune\, drži radionice i obuke u pustovanju. Sav materijal i alat je obezbeđen. \n\nCena po osobi: 2.800 dinara individualni dolazak\nCena po osobi: 2.400 dinara za dve i više osoba
URL:http://lemonberrystudio.com/dogadjaj/podmetaci-od-vune/
ATTACH;FMTTYPE=image/jpeg:http://lemonberrystudio.com/wp-content/uploads/2023/02/Podmetac-scaled.jpg
END:VEVENT
END:VCALENDAR