BEGIN:VCALENDAR
VERSION:2.0
PRODID:-//Lemon Berry Studio - ECPv5.9.1//NONSGML v1.0//EN
CALSCALE:GREGORIAN
METHOD:PUBLISH
X-WR-CALNAME:Lemon Berry Studio
X-ORIGINAL-URL:http://lemonberrystudio.com
X-WR-CALDESC:Događaji za Lemon Berry Studio
BEGIN:VTIMEZONE
TZID:Europe/Belgrade
BEGIN:DAYLIGHT
TZOFFSETFROM:+0100
TZOFFSETTO:+0200
TZNAME:CEST
DTSTART:20240331T010000
END:DAYLIGHT
BEGIN:STANDARD
TZOFFSETFROM:+0200
TZOFFSETTO:+0100
TZNAME:CET
DTSTART:20241027T010000
END:STANDARD
END:VTIMEZONE
BEGIN:VEVENT
DTSTART;TZID=Europe/Belgrade:20240601T170000
DTEND;TZID=Europe/Belgrade:20240601T200000
DTSTAMP:20260420T095552
CREATED:20240526T191933Z
LAST-MODIFIED:20240526T191933Z
UID:5312-1717261200-1717272000@lemonberrystudio.com
SUMMARY:RODITELJI I DECA SLIKAJU
DESCRIPTION:Obojite vreme koje provodite sa decom i dodajte mu kvalitet više – zajedno sa vašim detetom naslikajte jednu sliku iz dva dela.\nPored toga što ćete se zabaviti\, napravićete unikatnu porodičnu uspomenu\, ukras za sobu ili čak poklon za baku ili deku. \nCena: 4.000 dinara (2 platna\, 2 seta kompletnog materijala\, instrukcije\, posluženje) \n 
URL:http://lemonberrystudio.com/dogadjaj/roditelji-i-deca-slikaju-18/
ATTACH;FMTTYPE=image/jpeg:http://lemonberrystudio.com/wp-content/uploads/2020/01/Roditelj-i-dete-Maca-i-leptir.jpg
END:VEVENT
END:VCALENDAR