BEGIN:VCALENDAR
VERSION:2.0
PRODID:-//Lemon Berry Studio - ECPv5.9.1//NONSGML v1.0//EN
CALSCALE:GREGORIAN
METHOD:PUBLISH
X-WR-CALNAME:Lemon Berry Studio
X-ORIGINAL-URL:http://lemonberrystudio.com
X-WR-CALDESC:Događaji za Lemon Berry Studio
BEGIN:VTIMEZONE
TZID:Europe/Belgrade
BEGIN:DAYLIGHT
TZOFFSETFROM:+0100
TZOFFSETTO:+0200
TZNAME:CEST
DTSTART:20250330T010000
END:DAYLIGHT
BEGIN:STANDARD
TZOFFSETFROM:+0200
TZOFFSETTO:+0100
TZNAME:CET
DTSTART:20251026T010000
END:STANDARD
END:VTIMEZONE
BEGIN:VEVENT
DTSTART;VALUE=DATE:20250309
DTEND;VALUE=DATE:20250310
DTSTAMP:20260421T154053
CREATED:20250228T183838Z
LAST-MODIFIED:20250228T183851Z
UID:5628-1741478400-1741564799@lemonberrystudio.com
SUMMARY:ROĐENDAONICA- NEONSKO SLIKANJE 🎈🎈🎈
DESCRIPTION:
URL:http://lemonberrystudio.com/dogadjaj/rodjendaonica-neonsko-slikanje-%f0%9f%8e%88%f0%9f%8e%88%f0%9f%8e%88/
ATTACH;FMTTYPE=image/jpeg:http://lemonberrystudio.com/wp-content/uploads/2019/07/Dečiji-rođendan-neon.jpg
END:VEVENT
END:VCALENDAR