BEGIN:VCALENDAR
VERSION:2.0
PRODID:-//Lemon Berry Studio - ECPv5.9.1//NONSGML v1.0//EN
CALSCALE:GREGORIAN
METHOD:PUBLISH
X-WR-CALNAME:Lemon Berry Studio
X-ORIGINAL-URL:http://lemonberrystudio.com
X-WR-CALDESC:Događaji za Lemon Berry Studio
BEGIN:VTIMEZONE
TZID:Europe/Belgrade
BEGIN:DAYLIGHT
TZOFFSETFROM:+0100
TZOFFSETTO:+0200
TZNAME:CEST
DTSTART:20250330T010000
END:DAYLIGHT
BEGIN:STANDARD
TZOFFSETFROM:+0200
TZOFFSETTO:+0100
TZNAME:CET
DTSTART:20251026T010000
END:STANDARD
END:VTIMEZONE
BEGIN:VEVENT
DTSTART;TZID=Europe/Belgrade:20250607T170000
DTEND;TZID=Europe/Belgrade:20250607T200000
DTSTAMP:20260421T182706
CREATED:20250530T204752Z
LAST-MODIFIED:20250530T204752Z
UID:5691-1749315600-1749326400@lemonberrystudio.com
SUMMARY:SLIKANJE NA ČAŠAMA
DESCRIPTION:Create & Relax\nOpusti se i tako relaksiranog uma napravi prava unikatna\, upotrebna umetnička dela za sebe ili kao poklon za drage osobe.\nUz stručnu pomoć i instrukcije\, OSLIKAJTE SAMI DVE ČAŠE!\nBez obzira na iskustvo i slikarsko umeće\, opustićete se i tako relaksiranog uma napraviti prava mala umetnička dela za svoj dom ili kao poklon za drage osobe.\nDve čaše\, kompletan materijal\, posluženje i stručna pomoć instruktorke vas čekaju. \n\nCena po osobi: 3.000 dinara
URL:http://lemonberrystudio.com/dogadjaj/slikanje-na-casama-48/
ATTACH;FMTTYPE=image/jpeg:http://lemonberrystudio.com/wp-content/uploads/2024/01/Slikanje-na-casama.jpeg
END:VEVENT
END:VCALENDAR