BEGIN:VCALENDAR
VERSION:2.0
PRODID:-//Lemon Berry Studio - ECPv5.9.1//NONSGML v1.0//EN
CALSCALE:GREGORIAN
METHOD:PUBLISH
X-WR-CALNAME:Lemon Berry Studio
X-ORIGINAL-URL:http://lemonberrystudio.com
X-WR-CALDESC:Događaji za Lemon Berry Studio
BEGIN:VTIMEZONE
TZID:Europe/Belgrade
BEGIN:DAYLIGHT
TZOFFSETFROM:+0100
TZOFFSETTO:+0200
TZNAME:CEST
DTSTART:20230326T010000
END:DAYLIGHT
BEGIN:STANDARD
TZOFFSETFROM:+0200
TZOFFSETTO:+0100
TZNAME:CET
DTSTART:20231029T010000
END:STANDARD
END:VTIMEZONE
BEGIN:VEVENT
DTSTART;TZID=Europe/Belgrade:20230204T170000
DTEND;TZID=Europe/Belgrade:20230204T200000
DTSTAMP:20260420T075618
CREATED:20230128T170742Z
LAST-MODIFIED:20230128T170742Z
UID:4681-1675530000-1675540800@lemonberrystudio.com
SUMMARY:SLIKANJE U PARU I SOLO
DESCRIPTION:Paint & Relax\nU paru ili solo! \nIzlazak uz piće\, muziku i slikanje za opuštanje i zabavu. Da se opustiš na ovaj način iskustvo u slikanju ili crtanju nisu potrebni. \nPlatno sa nacrtom\, kompletan materijal i alat\, piće i stručne instrukcije te čekaju\, a gotovu sliku na platnu nosiš kući isto veče. \n\nCena po osobi : 2.800 dinara individualni dolazak\nCena po osobi : 2.400 dinara za dve i više osoba
URL:http://lemonberrystudio.com/dogadjaj/slikanje-u-paru-i-solo/
ATTACH;FMTTYPE=image/jpeg:http://lemonberrystudio.com/wp-content/uploads/2020/08/Kućice-par.jpg
END:VEVENT
END:VCALENDAR