BEGIN:VCALENDAR
VERSION:2.0
PRODID:-//Lemon Berry Studio - ECPv5.9.1//NONSGML v1.0//EN
CALSCALE:GREGORIAN
METHOD:PUBLISH
X-WR-CALNAME:Lemon Berry Studio
X-ORIGINAL-URL:http://lemonberrystudio.com
X-WR-CALDESC:Događaji za Lemon Berry Studio
BEGIN:VTIMEZONE
TZID:Europe/Belgrade
BEGIN:DAYLIGHT
TZOFFSETFROM:+0100
TZOFFSETTO:+0200
TZNAME:CEST
DTSTART:20230326T010000
END:DAYLIGHT
BEGIN:STANDARD
TZOFFSETFROM:+0200
TZOFFSETTO:+0100
TZNAME:CET
DTSTART:20231029T010000
END:STANDARD
END:VTIMEZONE
BEGIN:VEVENT
DTSTART;TZID=Europe/Belgrade:20230114T130000
DTEND;TZID=Europe/Belgrade:20230114T160000
DTSTAMP:20260420T081117
CREATED:20221225T144506Z
LAST-MODIFIED:20221225T144506Z
UID:4653-1673701200-1673712000@lemonberrystudio.com
SUMMARY:SLIKANJE ZLATOM
DESCRIPTION:Upotreba zlatnih listića i slikanje zlatom je veoma stara tehnika.  Od vizantijske umetnosti do današnjih dana. Koriste se u izradi ikona. Najpoznatija slika Gustava Klimta Poljubac izrađena je u uljanoj tehnici kombinovanoj sa zlatnim listićima. \nBaš tako ćemo i mi\, kao i Klimt\, kombionvati akrilne boje i zlatne listiće. Kroz proces stvaranja slike i tehnike nanošenja zlatnih listića vodi te stručno znanje i iskustvo instruktorke. \nCena uključuje kompletan materijal i alat\, stručne instrukcije i posluženje. Gotov rad se nosi kući  isto veče. \nCena:  3.600 din po osobi \n 
URL:http://lemonberrystudio.com/dogadjaj/slikanje-zlatom-5/
ATTACH;FMTTYPE=image/jpeg:http://lemonberrystudio.com/wp-content/uploads/2022/05/Slikanje-sa-zlatom.jpg
END:VEVENT
END:VCALENDAR