BEGIN:VCALENDAR
VERSION:2.0
PRODID:-//Lemon Berry Studio - ECPv5.9.1//NONSGML v1.0//EN
CALSCALE:GREGORIAN
METHOD:PUBLISH
X-WR-CALNAME:Lemon Berry Studio
X-ORIGINAL-URL:http://lemonberrystudio.com
X-WR-CALDESC:Događaji za Lemon Berry Studio
BEGIN:VTIMEZONE
TZID:Europe/Belgrade
BEGIN:DAYLIGHT
TZOFFSETFROM:+0100
TZOFFSETTO:+0200
TZNAME:CEST
DTSTART:20230326T010000
END:DAYLIGHT
BEGIN:STANDARD
TZOFFSETFROM:+0200
TZOFFSETTO:+0100
TZNAME:CET
DTSTART:20231029T010000
END:STANDARD
END:VTIMEZONE
BEGIN:VEVENT
DTSTART;TZID=Europe/Belgrade:20230211T170000
DTEND;TZID=Europe/Belgrade:20230211T200000
DTSTAMP:20260420T080929
CREATED:20230128T171250Z
LAST-MODIFIED:20230130T193102Z
UID:4683-1676134800-1676145600@lemonberrystudio.com
SUMMARY:VAJAONICA Figura - Dan ljubavi
DESCRIPTION:VAJAJ & Relax\nNa ovom posebnom događaju vi i vaš partner vajaćete figure prema sopstvenim likovima. I to sve kao obeležavanje Dana ljubavi. \nJedinstvena prilika da uživate i stvorite super zajednički poklon! \nIskustvo a ni poznavanje vajanja nije potrebno. \n  \nKompletan materijal i alat\, posluženje i stručne instrukcije su obezbeđeni. \n\nCena za par: 4.600 dinara\n\n 
URL:http://lemonberrystudio.com/dogadjaj/vajaonica-figura-dan-ljubavi/
ATTACH;FMTTYPE=image/jpeg:http://lemonberrystudio.com/wp-content/uploads/2023/01/Dan-zaljubljenih-figure-par.jpg
END:VEVENT
END:VCALENDAR