BEGIN:VCALENDAR
VERSION:2.0
PRODID:-//Lemon Berry Studio - ECPv5.9.1//NONSGML v1.0//EN
CALSCALE:GREGORIAN
METHOD:PUBLISH
X-WR-CALNAME:Lemon Berry Studio
X-ORIGINAL-URL:http://lemonberrystudio.com
X-WR-CALDESC:Događaji za Lemon Berry Studio
BEGIN:VTIMEZONE
TZID:Europe/Belgrade
BEGIN:DAYLIGHT
TZOFFSETFROM:+0100
TZOFFSETTO:+0200
TZNAME:CEST
DTSTART:20220327T010000
END:DAYLIGHT
BEGIN:STANDARD
TZOFFSETFROM:+0200
TZOFFSETTO:+0100
TZNAME:CET
DTSTART:20221030T010000
END:STANDARD
END:VTIMEZONE
BEGIN:VEVENT
DTSTART;TZID=Europe/Belgrade:20220602T180000
DTEND;TZID=Europe/Belgrade:20220602T210000
DTSTAMP:20260423T135941
CREATED:20220531T104911Z
LAST-MODIFIED:20220531T104912Z
UID:4238-1654192800-1654203600@lemonberrystudio.com
SUMMARY:SLIKANJE ŠPAHTLOM
DESCRIPTION:Paint & Relax sa špahtlom\nIzlazak uz piće\, muziku i slikanje za druženje i zabavu. \nIskustvo u slikanju ili crtanju nisu potrebni a na ovom događaju ćete pored četkica koristiti i slikarsku špahtlu i naučiti kako da sa njom slikate. \nPlatno sa nacrtom\, kompletan materijal i alat\, piće i stručne instrukcije su obezbeđeni. \n\nCENA po osobi : 2.800 dinara / 2.300 dinara za dve i više osoba
URL:http://lemonberrystudio.com/dogadjaj/slikanje-spahtlom-18/
ATTACH;FMTTYPE=image/jpeg:http://lemonberrystudio.com/wp-content/uploads/2022/05/Slikanje-spahtlom.jpg
END:VEVENT
BEGIN:VEVENT
DTSTART;TZID=Europe/Belgrade:20220603T180000
DTEND;TZID=Europe/Belgrade:20220603T210000
DTSTAMP:20260423T135941
CREATED:20220531T105115Z
LAST-MODIFIED:20220531T105115Z
UID:4241-1654279200-1654290000@lemonberrystudio.com
SUMMARY:SLIKANJE NA ČAŠAMA
DESCRIPTION:Uz stručnu pomoć i instrukcije\, OSLIKAJTE SAMI DVE ČAŠE!\nBez obzira na iskustvo i slikarsko umeće\, opustićete se i tako relaksiranog uma napraviti prava mala umetnička dela za svoj dom ili kao poklon za drage osobe.\nDve čaše\, kompletan materijal\, vino i gricke\, i stručna pomoć instruktorke vas čekaju. \n\nCena po osobi: 2.800 dinara individualni dolazak\nCena po osobi: 2.300 dinara za dve i više osoba
URL:http://lemonberrystudio.com/dogadjaj/slikanje-na-casama-26/
ATTACH;FMTTYPE=image/jpeg:http://lemonberrystudio.com/wp-content/uploads/2019/12/Čaše-Cvet.jpg
END:VEVENT
BEGIN:VEVENT
DTSTART;TZID=Europe/Belgrade:20220604T170000
DTEND;TZID=Europe/Belgrade:20220604T200000
DTSTAMP:20260423T135941
CREATED:20220531T105322Z
LAST-MODIFIED:20220531T105322Z
UID:4243-1654362000-1654372800@lemonberrystudio.com
SUMMARY:SLIKANJE U PARU
DESCRIPTION:Kreativna zabava za parove\nIzlazak uz piće\, muziku i uz zajedničke snage stvaranje jedne slike iz dva dela.  Za svaki emotivni par\, par prijatelja ili prijateljica\, porodični par\, … bez obzira na iskustvo u slikanju. \nPlatno\, kompletan materijal i alat\, piće i stručne instrukcije su obezbeđeni. Iskustvo u slikanju ili crtanju nisu potrebnix \n\nCena: 4.600 dinara
URL:http://lemonberrystudio.com/dogadjaj/slikanje-u-paru-7/
ATTACH;FMTTYPE=image/jpeg:http://lemonberrystudio.com/wp-content/uploads/2022/05/Slikanje-u-paru.jpg
END:VEVENT
BEGIN:VEVENT
DTSTART;VALUE=DATE:20220607
DTEND;VALUE=DATE:20220608
DTSTAMP:20260423T135941
CREATED:20220531T114834Z
LAST-MODIFIED:20220531T115043Z
UID:4274-1654560000-1654646399@lemonberrystudio.com
SUMMARY:CORPORATE EVENT
DESCRIPTION:
URL:http://lemonberrystudio.com/dogadjaj/corporate-event/
END:VEVENT
BEGIN:VEVENT
DTSTART;TZID=Europe/Belgrade:20220609T180000
DTEND;TZID=Europe/Belgrade:20220609T210000
DTSTAMP:20260423T135941
CREATED:20220531T111301Z
LAST-MODIFIED:20220531T111301Z
UID:4246-1654797600-1654808400@lemonberrystudio.com
SUMMARY:Kurs RELJEF
DESCRIPTION:Izrada unikatnog dekorativnog gipsanog reljefa\nZa pravljenje reljefa u gipsu koristićeš cveće\, povrće ali i razne predmete. Kompletan materijal i alat\, uključujući cveće\, povrće i predmete su obezbeđeni. \nU slučaju da želiš da napraviš reljef od nekih tebi posebno dragih predmeta donesi ih na radionicu. \nKurs se izvodi u jednom i u dva termina\, u zavisnosti kakav reljef želiš. Tačnije: \n\nKurs od jednog termina – izradićeš gipsani reljef u beloj boji – bez bojenja\, pozadine i rama. Reljef nosiš sa sobom isto veče.\nKurs od dva termina – na prvom terminu ćeš izraditi reljef u beloj boji; na drugom terminu ćeš bojiti reljef\, i postaviti ga u ram koji ćeš takođe dekorisati.\n\nCena kursa za 1 termin: 2.800 din po osobi za individualni dolazak ili 2.300 din po osobi za dve i više osoba \nCena kursa za 2 termina: 5.500 din / po osobi za individualni dolazak ili 4.500 din po osobi za dve i više osoba \nCena uključuje materijal\, alat\, instrukcije\, piće i posluženje\, gotov rad. \n 
URL:http://lemonberrystudio.com/dogadjaj/kurs-reljef-15/
ATTACH;FMTTYPE=image/jpeg:http://lemonberrystudio.com/wp-content/uploads/2021/05/Kurs-Reljef.jpeg
END:VEVENT
BEGIN:VEVENT
DTSTART;TZID=Europe/Belgrade:20220610T180000
DTEND;TZID=Europe/Belgrade:20220610T210000
DTSTAMP:20260423T135941
CREATED:20220531T111512Z
LAST-MODIFIED:20220531T111512Z
UID:4248-1654884000-1654894800@lemonberrystudio.com
SUMMARY:VAJAONICA NAKITA
DESCRIPTION:VAJAJ & Relax\nNa ovom događaju zabavljaćeš i opuštati ruke i um polimernom glinom. \nUpoznaćeš se sa karakretistikama\, mogućnostima i ograničenjima gline i upoznati se sa početnim osnovama vajanja. \nNa ovoj tročasovnoj radionici izradićeš nakit od gline i za to ti nije potrebno iskustvo. Izrađeni nakit ostaje u studiju na sušenju i možeš ga preuzeti nakon 24 sata. \nKompletan materijal i alat\, piće i stručne instrukcije su obezbeđeni. \n\nCena: 2.800 dinara po osobi.\nCena za dve i više osoba: 2.300 dinara po osobi.\n\nKroz tajne vajanja vodi Ana Marđetko\, vajar\, grafički dizajneri i profesorka na smeru juvelir umetničkih predmeta u sredjnoj školi Tehnoart\, Beograd.
URL:http://lemonberrystudio.com/dogadjaj/vajaonica-nakita-11/
ATTACH;FMTTYPE=image/jpeg:http://lemonberrystudio.com/wp-content/uploads/2021/06/Vajaonica-nakita.jpeg
END:VEVENT
BEGIN:VEVENT
DTSTART;TZID=Europe/Belgrade:20220611T170000
DTEND;TZID=Europe/Belgrade:20220611T200000
DTSTAMP:20260423T135941
CREATED:20220531T111720Z
LAST-MODIFIED:20220531T111720Z
UID:4250-1654966800-1654977600@lemonberrystudio.com
SUMMARY:VAJAONICA FIGURA
DESCRIPTION:VAJAJ & Relax\nVajaonica figura se izvodi u dva termina u okviru kojih ćeš se zabavljati i opuštati ruke i um polimernom glinom. \nUpoznaćeš se sa karakretistikama\, mogućnostima i ograničenjima gline i upoznati se sa početnim osnovama vajanja. \nRadionice vajanja figura inspirisane su radom francuske umentice\, skulptorke\, slikarke i režiserke Niki de Sen Fal.  Ona je istraživala umetničku predstavu uloge žene i stvarala je ženske figure u prirodnoj veličini. Njene žene postepeno dobijaju na čvrstini i postaju Ženske (Les Nanas). \nIzradićeš figuru od gline i za to ti nije potrebno iskustvo. A gotovu figuru nosiš kući posle drugog termina. \nKompletan materijal i alat\, posluženje i stručne instrukcije su obezbeđeni. \n\nCena za dve radionice:  4.720 dinara po osobi.\n\nKroz tajne vajanja vodi Ana Marđetko\, vajar\, grafički dizajneri i profesorka na smeru juvelir umetničkih predmeta u sredjnoj školi Tehnoart\, Beograd. \n 
URL:http://lemonberrystudio.com/dogadjaj/vajaonica-figura-15/
ATTACH;FMTTYPE=image/jpeg:http://lemonberrystudio.com/wp-content/uploads/2022/05/Vajaonica-Figura.jpg
END:VEVENT
BEGIN:VEVENT
DTSTART;TZID=Europe/Belgrade:20220616T180000
DTEND;TZID=Europe/Belgrade:20220616T210000
DTSTAMP:20260423T135941
CREATED:20220531T111904Z
LAST-MODIFIED:20220531T111904Z
UID:4253-1655402400-1655413200@lemonberrystudio.com
SUMMARY:AIRBRUSH Radionica crtanja vazdušnim pištoljem
DESCRIPTION:Uz pomoć airbrush pištolja (vazdušni pištolj sa bojama) i razne šablone naslikaćete realističnu sliku. \nInstruktor Goran Milutinović\, umetnik koji koristi tehniku Airbrush preko 30 godina\, pretvoriće  jedno vaše veče u sjajnu i jedinstvenu zabavu. \nMaksimalni broj učesnika je 4. \nCena po osobi: 2.800 dinara za individualni dolazak \nCena za dve i više osoba: 2.300 dinara po osobi
URL:http://lemonberrystudio.com/dogadjaj/airbrush-radionica-crtanja-vazdusnim-pistoljem-4/
ATTACH;FMTTYPE=image/jpeg:http://lemonberrystudio.com/wp-content/uploads/2021/12/0.jpeg
END:VEVENT
BEGIN:VEVENT
DTSTART;TZID=Europe/Belgrade:20220617T180000
DTEND;TZID=Europe/Belgrade:20220617T210000
DTSTAMP:20260423T135941
CREATED:20220531T112114Z
LAST-MODIFIED:20220531T112114Z
UID:4255-1655488800-1655499600@lemonberrystudio.com
SUMMARY:EPOKSID slikanje
DESCRIPTION:Koristeći pesak\, kamen\, školjke i ostale predmete nađene u prirodi\, postavljamo plažu na slici\, a preostali deo površine zalivamo epoksidnom smolom kojom realno dočaravamo more. \nKompletan materijal\, alat\, i stručne instrukcije su obezbeđeni. Ukoliko imate neke svoje školjkice koje ste doneli sa letovanja ponesite ih sa sobom da ih postavite na svoju plažu. \nBroj učesnika je ograničen na maksimum dve osobe. \nCena: \n\nFormat 30 x 40 : 3\,800 din po osobi\nFormat 20 x 25 : 3.000 din po osobi
URL:http://lemonberrystudio.com/dogadjaj/epoksid-slikanje-2/
ATTACH;FMTTYPE=image/jpeg:http://lemonberrystudio.com/wp-content/uploads/2022/01/Resin-Art.jpeg
END:VEVENT
BEGIN:VEVENT
DTSTART;TZID=Europe/Belgrade:20220618T170000
DTEND;TZID=Europe/Belgrade:20220618T200000
DTSTAMP:20260423T135941
CREATED:20220531T113025Z
LAST-MODIFIED:20220531T113025Z
UID:4257-1655571600-1655582400@lemonberrystudio.com
SUMMARY:NOVO Slikanje sa zlatom
DESCRIPTION:Instruktorka Marija će vas voditi  korak po korak kroz proces stvaranja slike koju ćete izraditi na slikarskom platnu uz pomoć akrilnih boja i zlatnih ili srebrnih listića. \nCena uključuje kompletan materijal i alat\, stručne instrukcije i posluženje. A gotov rad nosite sa sobom isto veče. \nCena: \n\nZa individualni dolazak;  2.800 din po osobi\nZa dve i vice osoba: 2.300 din po osobi\n\nRadionica se održava za grupe od minimum 6 osoba.
URL:http://lemonberrystudio.com/dogadjaj/novo-slikanje-sa-zlatom/
ATTACH;FMTTYPE=image/jpeg:http://lemonberrystudio.com/wp-content/uploads/2022/05/Slikanje-sa-zlatom.jpg
END:VEVENT
BEGIN:VEVENT
DTSTART;VALUE=DATE:20220622
DTEND;VALUE=DATE:20220623
DTSTAMP:20260423T135941
CREATED:20220531T114911Z
LAST-MODIFIED:20220531T115027Z
UID:4276-1655856000-1655942399@lemonberrystudio.com
SUMMARY:SLIKARSKA ROĐENDAONICA
DESCRIPTION:
URL:http://lemonberrystudio.com/dogadjaj/slikarska-rodjendaonica/
END:VEVENT
BEGIN:VEVENT
DTSTART;TZID=Europe/Belgrade:20220623T180000
DTEND;TZID=Europe/Belgrade:20220623T210000
DTSTAMP:20260423T135941
CREATED:20220531T114327Z
LAST-MODIFIED:20220531T114327Z
UID:4263-1656007200-1656018000@lemonberrystudio.com
SUMMARY:Kurs MOZAIK
DESCRIPTION:Dobro došli  u svet mozaika.\nNa ovom kursu ćeš naučiti kako se priprema podloga\, kako se koristi alat\, i kako se izvodi završna obrada mozaika. Na kraju kursa gotov mozaik se nosi kući. \nSav materijal i alat su obezbeđeni\, kao i stručna pomoć. \nU zavisnosti od veličine mozaika\, možete da odaberete jednu od tri opcije: \n\n 50 x 40 cm – pet termina – ukupno 11.500 din\n30 x 40 cm – četiri termina – ukupno 9.200 din\n25 x 30 cm – tri termina – ukupno 6.900 din\n\nU slučaju potrebe za dodatnim terminima cena za svaki dodatni termin je 2.300 din.
URL:http://lemonberrystudio.com/dogadjaj/kurs-mozaik-15/
ATTACH;FMTTYPE=image/jpeg:http://lemonberrystudio.com/wp-content/uploads/2022/01/Kurs-Mozaik.jpeg
END:VEVENT
BEGIN:VEVENT
DTSTART;TZID=Europe/Belgrade:20220624T180000
DTEND;TZID=Europe/Belgrade:20220624T210000
DTSTAMP:20260423T135941
CREATED:20220531T114540Z
LAST-MODIFIED:20220531T114540Z
UID:4265-1656093600-1656104400@lemonberrystudio.com
SUMMARY:Radionica izrade šala ili ešarpe
DESCRIPTION:NAPRAVI SVOJ ŠAL OD VUNE\, SVILE I DRUGIH MATERIJALA I TO BEZ ŠTRIKANJA I ŠIVENJA!\nDobro došli u avanturu zvanu „nuno felting“\nNuno felting  je naziv za tehniku koju je izmislila Polly Stirling\, umetnik iz Australije. “Nuno “ je japanska reč koja označava odeću. Za razliku od predmeta koji nastaju samo od vune\, nuno feltind pruža daleko veće mogućnosti za dobijanje laganih\, a opet čvrstih materijala. To bi bila ta magija pustovanja\, jer se često ne može predvideti kakav će ishod biti.U procesu valjanja materijali deluju jedni na druge te u takvoj simbiozi oni dobijaju nove osobine.  Vunena vlakna prodiru kroz svilu Ii slične materijale I stvaraju potpuno drugačije teksture zbog faktora skupljanja. Bogtstvo novih površina I oblika koje možemo stvoriti predstavlja stalni izazov. \nNa radionici ćemo izraditi šal u ovoj tehnici. Na osnovu od merino vune ćemo naneti komade svilenih I viskoznih tkanina\, razne vrste prediva I viskoznih vlakana praveći kompoziciju po izboru. Ovaj način rada najviše podseća na pačvork tehniku. Razlika je u tome što nema prišivanja\, već vuna\,  koja se ponaša slično lepku\, prilikom procesa pustovanja sve to povezuje u jednu celinu. \nPustovanje vune je drevna tehnika starija od tkanja. Od iščešljane vune se uz pomoć sapuna\, vode i mehaničkog delovanja\, dobija pust\, vuneno platno. \nRadionicu vodi Marija Vujčić\, koja se bavi pustovanjem vune više od 10 godina. Počelo je kao hobi\, a od 2018. godine hobi prerasta u biznis „Magda suveniri“. Marija izrađuje predmete od pustovane vune\, drži radionice i obuke u pustovanju.Sav materijal i alat obezbeđen.  Gotove ukrase nosite sa sobom. \nBroj učesnika je ograničen na 2 osobe. \nCena: 3.600 dinara po osobi \n***Plaćanje unapred\, najkasnije jedan dan pre radionice.
URL:http://lemonberrystudio.com/dogadjaj/radionica-izrade-sala-ili-esarpe-2/
ATTACH;FMTTYPE=image/jpeg:http://lemonberrystudio.com/wp-content/uploads/2022/02/Esarpa-sal.jpg
END:VEVENT
BEGIN:VEVENT
DTSTART;TZID=Europe/Belgrade:20220625T170000
DTEND;TZID=Europe/Belgrade:20220625T200000
DTSTAMP:20260423T135941
CREATED:20220531T114130Z
LAST-MODIFIED:20220531T114130Z
UID:4260-1656176400-1656187200@lemonberrystudio.com
SUMMARY:NOVO Fluidno slikanje
DESCRIPTION:Naša draga saradnica Marija se vraća u naš studio sa fluidnim slikanjem.  Igranjem u mešanju boja  (miks akrilnih boja i medijuma za fluidno slikanje) i izlivanjem na slikarsko platno dobićete svoju unikatnu apstraktnu sliku. \nIako postoje pravila u procesu\, sa kojima će  vas upoznati Marija\, cela radionica je prepuštena vašoj inspiraciji i intuitivnom unutrašnjem vođenju. \nCena: \n\nZa individualni dolazak : 2.800 din po osobi\nZa dolazak dve i više osoba : 2.300 din po osobi\n\nCena uključuje kompletan materijal i alat\, stručne instrukcije\, posluženje. \nRadionica se održava za grupe od 5- 6 osoba. U slučaju manjeg broja prijavljenih radionica se neće održati.
URL:http://lemonberrystudio.com/dogadjaj/novo-fluidno-slikanje/
ATTACH;FMTTYPE=image/jpeg:http://lemonberrystudio.com/wp-content/uploads/2022/05/Fluidno-slikanje.jpg
END:VEVENT
BEGIN:VEVENT
DTSTART;TZID=Europe/Belgrade:20220630T180000
DTEND;TZID=Europe/Belgrade:20220630T210000
DTSTAMP:20260423T135941
CREATED:20220531T114725Z
LAST-MODIFIED:20220628T210118Z
UID:4268-1656612000-1656622800@lemonberrystudio.com
SUMMARY:MASTERKLAS KOLAŽ
DESCRIPTION:Pozivamo vas na specijalni masterklas i radionicu kolaža kolažistkinje Ivane Milovanović.\nMasterklas i radionica će se odigrati u toku trajanja izložbe Ivaninih kolaža. Imaćete izuzetnu priliku da na licu mesta vidite sjajne radove i da vidite kako se kolaž može primeniti.\nNa ovoj radionici imaćete priliku da se upoznate sa tehnikom ručne izrade kolaža (cut and paste)\, koje alate da koristite i kako da kombinujete različite materijale\, teksture i boje.\nSaznaćete koje sve vrste i stilovi kolaža postoje.\n\nVidećete na licu mesta kako izgleda proces izrade jednog kolaža (od odabira i selekcije materijala\, sklapanja kompozicije i na kraju samu izradu).\nNaučićete kako da kombinujete različite slike u jednu celinu.\nKako da kombinujete i uskladite vintage i retro momente sa modernim i nadrealističkim komadima.\nVidećete šta se sve može napraviti od časopisa koje svi imamo u kući i kako će oni kroz kolaž dobiti sasvim novu namenu i dimenziju.\nNaučićete da kroz kolaž pronađete novi oblik izražavanja.\nTokom radionice imaćete priliku da kroz eksperimentisanje i igru napravite jedinstvene kolaže koristeći časopise\, fozografije iz magazina\, stare knjige i isečke.\n\nCena: 2.800 dinara po osobi\nCena za dve i više osoba : 2.300 dinara po osobi\n\n*** Plaćanje unapred\, najkasnije jedan dan pre radionice
URL:http://lemonberrystudio.com/dogadjaj/masterklas-kolaz-20/
ATTACH;FMTTYPE=image/jpeg:http://lemonberrystudio.com/wp-content/uploads/2022/05/Kolaz.jpg
END:VEVENT
END:VCALENDAR