BEGIN:VCALENDAR
VERSION:2.0
PRODID:-//Lemon Berry Studio - ECPv5.9.1//NONSGML v1.0//EN
CALSCALE:GREGORIAN
METHOD:PUBLISH
X-WR-CALNAME:Lemon Berry Studio
X-ORIGINAL-URL:http://lemonberrystudio.com
X-WR-CALDESC:Događaji za Lemon Berry Studio
BEGIN:VTIMEZONE
TZID:Europe/Belgrade
BEGIN:DAYLIGHT
TZOFFSETFROM:+0100
TZOFFSETTO:+0200
TZNAME:CEST
DTSTART:20220327T010000
END:DAYLIGHT
BEGIN:STANDARD
TZOFFSETFROM:+0200
TZOFFSETTO:+0100
TZNAME:CET
DTSTART:20221030T010000
END:STANDARD
END:VTIMEZONE
BEGIN:VEVENT
DTSTART;TZID=Europe/Belgrade:20220804T180000
DTEND;TZID=Europe/Belgrade:20220804T210000
DTSTAMP:20260423T104209
CREATED:20220728T171953Z
LAST-MODIFIED:20220728T173056Z
UID:4361-1659636000-1659646800@lemonberrystudio.com
SUMMARY:Paint & Relax ČAMAC
DESCRIPTION:Paint & Relax\nIzlazak uz piće\, muziku i slikanje za opuštanje i zabavu. Da se opustite na ovaj način iskustvo u slikanju ili crtanju nisu potrebni. \nPlatno sa nacrtom\, kompletan materijal i alat\, piće i stručne instrukcije vas čekaju\, a gotovu sliku na platnu nosite kući isto veče. \n\nCena po osobi : 2.800 dinara individualni dolazak\nCena po osobi : 2.300 dinara za dve i više osoba
URL:http://lemonberrystudio.com/dogadjaj/paint-relax-camac/
ATTACH;FMTTYPE=image/jpeg:http://lemonberrystudio.com/wp-content/uploads/2022/07/Camac.jpg
END:VEVENT
BEGIN:VEVENT
DTSTART;TZID=Europe/Belgrade:20220805T180000
DTEND;TZID=Europe/Belgrade:20220805T210000
DTSTAMP:20260423T104209
CREATED:20220728T170444Z
LAST-MODIFIED:20220728T173033Z
UID:4342-1659722400-1659733200@lemonberrystudio.com
SUMMARY:Kurs MOZAIK
DESCRIPTION:Dobro došli  u svet mozaika.\nNa ovom kursu ćeš naučiti kako se priprema podloga\, kako se koristi alat\, i kako se izvodi završna obrada mozaika. Na kraju kursa gotov mozaik se nosi kući. \nSav materijal i alat su obezbeđeni\, kao i stručna pomoć. \nU zavisnosti od veličine mozaika\, možete da odaberete jednu od tri opcije: \n\n 50 x 40 cm – pet termina – ukupno 11.500 din\n30 x 40 cm – četiri termina – ukupno 9.200 din\n25 x 30 cm – tri termina – ukupno 6.900 din\n\nU slučaju potrebe za dodatnim terminima cena za svaki dodatni termin je 2.300 din.
URL:http://lemonberrystudio.com/dogadjaj/kurs-mozaik-17/
ATTACH;FMTTYPE=image/jpeg:http://lemonberrystudio.com/wp-content/uploads/2022/07/Mozaik-Drvored.jpg
END:VEVENT
BEGIN:VEVENT
DTSTART;TZID=Europe/Belgrade:20220806T170000
DTEND;TZID=Europe/Belgrade:20220806T200000
DTSTAMP:20260423T104209
CREATED:20220728T171446Z
LAST-MODIFIED:20220728T173012Z
UID:4355-1659805200-1659816000@lemonberrystudio.com
SUMMARY:SLIKANJE U PARU
DESCRIPTION:Kreativna zabava za parove\nIzlazak uz piće\, muziku i uz zajedničke snage stvaranje jedne slike iz dva dela.  Za svaki emotivni par\, par prijatelja ili prijateljica\, porodični par\, … bez obzira na iskustvo u slikanju. \nPlatno\, kompletan materijal i alat\, piće i stručne instrukcije su obezbeđeni. Iskustvo u slikanju ili crtanju nisu potrebnix \n\nCena: 4.600 dinara
URL:http://lemonberrystudio.com/dogadjaj/slikanje-u-paru-9/
ATTACH;FMTTYPE=image/jpeg:http://lemonberrystudio.com/wp-content/uploads/2022/07/Slikanje-u-paru-Predeo-1.jpg
END:VEVENT
BEGIN:VEVENT
DTSTART;TZID=Europe/Belgrade:20220811T180000
DTEND;TZID=Europe/Belgrade:20220811T210000
DTSTAMP:20260423T104209
CREATED:20220728T165826Z
LAST-MODIFIED:20220728T172948Z
UID:4334-1660240800-1660251600@lemonberrystudio.com
SUMMARY:AIRBRUSH Crtanje vazdušnim pištoljem
DESCRIPTION:Uz pomoć airbrush pištolja (vazdušni pištolj sa bojama) i razne šablone naslikaćete realističnu sliku. \nInstruktor Goran Milutinović\, umetnik koji koristi tehniku Airbrush preko 30 godina\, pretvoriće  jedno vaše veče u sjajnu i jedinstvenu zabavu. \nMaksimalni broj učesnika je 4. Ova radionica može da se pretvori u jedinstven porodični izlazak roditelja i dece i stvaranje unikatne zajedničke slike. \nCena po osobi: 2.800 dinara za individualni dolazak \n 
URL:http://lemonberrystudio.com/dogadjaj/airbrush-crtanje-vazdusnim-pistoljem-2/
ATTACH;FMTTYPE=image/jpeg:http://lemonberrystudio.com/wp-content/uploads/2022/07/Airbrush.jpg
END:VEVENT
BEGIN:VEVENT
DTSTART;TZID=Europe/Belgrade:20220812T180000
DTEND;TZID=Europe/Belgrade:20220812T210000
DTSTAMP:20260423T104209
CREATED:20220728T165557Z
LAST-MODIFIED:20220728T172917Z
UID:4331-1660327200-1660338000@lemonberrystudio.com
SUMMARY:MASTERKLAS KOLAŽ
DESCRIPTION:Pozivamo vas na specijalni masterklas i radionicu kolaža kolažistkinje Ivane Milovanović.\nMasterklas i radionica će se odigrati u toku trajanja izložbe Ivaninih kolaža. Imaćete izuzetnu priliku da na licu mesta vidite sjajne radove i da vidite kako se kolaž može primeniti.\nNa ovoj radionici imaćete priliku da se upoznate sa tehnikom ručne izrade kolaža (cut and paste)\, koje alate da koristite i kako da kombinujete različite materijale\, teksture i boje.\nSaznaćete koje sve vrste i stilovi kolaža postoje.\n\nVidećete na licu mesta kako izgleda proces izrade jednog kolaža (od odabira i selekcije materijala\, sklapanja kompozicije i na kraju samu izradu).\nNaučićete kako da kombinujete različite slike u jednu celinu.\nKako da kombinujete i uskladite vintage i retro momente sa modernim i nadrealističkim komadima.\nVidećete šta se sve može napraviti od časopisa koje svi imamo u kući i kako će oni kroz kolaž dobiti sasvim novu namenu i dimenziju.\nNaučićete da kroz kolaž pronađete novi oblik izražavanja.\nTokom radionice imaćete priliku da kroz eksperimentisanje i igru napravite jedinstvene kolaže koristeći časopise\, fozografije iz magazina\, stare knjige i isečke.\n\nCena: 2.800 dinara po osobi
URL:http://lemonberrystudio.com/dogadjaj/masterklas-kolaz-22/
ATTACH;FMTTYPE=image/jpeg:http://lemonberrystudio.com/wp-content/uploads/2022/07/Kolaz-Ram.jpg
END:VEVENT
BEGIN:VEVENT
DTSTART;TZID=Europe/Belgrade:20220813T170000
DTEND;TZID=Europe/Belgrade:20220813T200000
DTSTAMP:20260423T104209
CREATED:20220728T170306Z
LAST-MODIFIED:20220728T172847Z
UID:4339-1660410000-1660420800@lemonberrystudio.com
SUMMARY:EPOKSID slikanje
DESCRIPTION:Koristeći pesak\, kamen\, školjke i ostale predmete nađene u prirodi\, postavljamo plažu na slici\, a preostali deo površine zalivamo epoksidnom smolom kojom realno dočaravamo more. \nKompletan materijal\, alat\, i stručne instrukcije su obezbeđeni. Ukoliko imate neke svoje školjkice koje ste doneli sa letovanja ponesite ih sa sobom da ih postavite na svoju plažu. \nBroj učesnika je ograničen na maksimum dve osobe. \nCena: \n\nFormat 30 x 40 : 3\,800 din po osobi\nFormat 20 x 25 : 3.000 din po osobi
URL:http://lemonberrystudio.com/dogadjaj/epoksid-slikanje-4/
ATTACH;FMTTYPE=image/jpeg:http://lemonberrystudio.com/wp-content/uploads/2022/07/Epoksid-Montenegrina.jpg
END:VEVENT
BEGIN:VEVENT
DTSTART;TZID=Europe/Belgrade:20220818T180000
DTEND;TZID=Europe/Belgrade:20220818T210000
DTSTAMP:20260423T104209
CREATED:20220728T171104Z
LAST-MODIFIED:20220728T172813Z
UID:4351-1660845600-1660856400@lemonberrystudio.com
SUMMARY:Kurs RELJEF
DESCRIPTION:Izrada unikatnog dekorativnog gipsanog reljefa\nZa pravljenje reljefa u gipsu koristićeš cveće\, povrće ali i razne predmete. Kompletan materijal i alat\, uključujući cveće\, povrće i predmete su obezbeđeni. \nU slučaju da želiš da napraviš reljef od nekih tebi posebno dragih predmeta donesi ih na radionicu. \nKurs se izvodi u jednom i u dva termina\, u zavisnosti kakav reljef želiš. Tačnije: \n\nKurs od jednog termina – izradićeš gipsani reljef u beloj boji – bez bojenja\, pozadine i rama. Reljef nosiš sa sobom isto veče.\nKurs od dva termina – na prvom terminu ćeš izraditi reljef u beloj boji; na drugom terminu ćeš bojiti reljef\, i postaviti ga u ram koji ćeš takođe dekorisati.\n\nCena kursa za 1 termin: 2.800 din po osobi za individualni dolazak ili 2.300 din po osobi za dve i više osoba \nCena kursa za 2 termina: 5.500 din / po osobi za individualni dolazak ili 4.500 din po osobi za dve i više osoba \nCena uključuje materijal\, alat\, instrukcije\, piće i posluženje\, gotov rad. \n 
URL:http://lemonberrystudio.com/dogadjaj/kurs-reljef-17/
ATTACH;FMTTYPE=image/jpeg:http://lemonberrystudio.com/wp-content/uploads/2021/05/Kurs-Reljef.jpeg
END:VEVENT
BEGIN:VEVENT
DTSTART;TZID=Europe/Belgrade:20220819T180000
DTEND;TZID=Europe/Belgrade:20220819T210000
DTSTAMP:20260423T104209
CREATED:20220728T170852Z
LAST-MODIFIED:20220728T172747Z
UID:4348-1660932000-1660942800@lemonberrystudio.com
SUMMARY:FLUIDNO SLIKANJE
DESCRIPTION:Naša draga saradnica Marija se vraća u naš studio sa fluidnim slikanjem.  Igranjem u mešanju boja  (miks akrilnih boja i medijuma za fluidno slikanje) i izlivanjem na slikarsko platno dobićete svoju unikatnu apstraktnu sliku. \nIako postoje pravila u procesu\, sa kojima će  vas upoznati Marija\, cela radionica je prepuštena vašoj inspiraciji i intuitivnom unutrašnjem vođenju. \nCena: 2.800 din po osob \nCena uključuje kompletan materijal i alat\, stručne instrukcije\, posluženje. \nRadionica se održava za grupe od 5- 6 osoba.
URL:http://lemonberrystudio.com/dogadjaj/fluidno-slikanje-2/
ATTACH;FMTTYPE=image/jpeg:http://lemonberrystudio.com/wp-content/uploads/2022/07/Fluid-Lila.jpg
END:VEVENT
BEGIN:VEVENT
DTSTART;TZID=Europe/Belgrade:20220820T170000
DTEND;TZID=Europe/Belgrade:20220820T200000
DTSTAMP:20260423T104209
CREATED:20220728T172231Z
LAST-MODIFIED:20220728T172614Z
UID:4364-1661014800-1661025600@lemonberrystudio.com
SUMMARY:RODITELJI I DECA SLIKAJU Drugari
DESCRIPTION:Obojite vreme koje provodite sa decom i dodajte mu kvalitet više – zajedno sa vašim detetom naslikajte jednu sliku iz dva dela.\nPored toga što ćete se zabaviti\, napravićete unikatnu porodičnu uspomenu\, ukras za sobu ili čak poklon za baku ili deku. \nCena: 3.800 dinara (2 platna\, 2 seta kompletnog materijala\, instrukcije\, posluženje) \n 
URL:http://lemonberrystudio.com/dogadjaj/roditelji-i-deca-slikaju-drugari-2/
ATTACH;FMTTYPE=image/jpeg:http://lemonberrystudio.com/wp-content/uploads/2022/02/Slon-i-panda.jpg
END:VEVENT
BEGIN:VEVENT
DTSTART;TZID=Europe/Belgrade:20220825T180000
DTEND;TZID=Europe/Belgrade:20220825T210000
DTSTAMP:20260423T104209
CREATED:20220728T170058Z
LAST-MODIFIED:20220728T172549Z
UID:4337-1661450400-1661461200@lemonberrystudio.com
SUMMARY:SLIKANJE ŠPAHTLOM
DESCRIPTION:Paint & Relax sa špahtlom u ruci\nIzlazak uz piće\, muziku i slikanje za druženje i zabavu. \nIskustvo u slikanju ili crtanju nisu potrebni a na ovom događaju ćete pored četkica koristiti i slikarsku špahtlu i naučiti kako da sa njom slikate. \nPlatno sa nacrtom\, kompletan materijal i alat\, piće i stručne instrukcije su obezbeđeni. \n\nCENA po osobi : 2.800 dinara / 2.300 dinara za dve i više osoba
URL:http://lemonberrystudio.com/dogadjaj/slikanje-spahtlom-20/
ATTACH;FMTTYPE=image/jpeg:http://lemonberrystudio.com/wp-content/uploads/2020/11/Slikanje-špahtlom.jpg
END:VEVENT
BEGIN:VEVENT
DTSTART;TZID=Europe/Belgrade:20220826T180000
DTEND;TZID=Europe/Belgrade:20220826T210000
DTSTAMP:20260423T104209
CREATED:20220728T165248Z
LAST-MODIFIED:20220728T172526Z
UID:4328-1661536800-1661547600@lemonberrystudio.com
SUMMARY:Radionica izrade šala (letnje marame)
DESCRIPTION:NAPRAVI SVOJ ŠAL OD VUNE\, SVILE I DRUGIH PRIRODNIH MATERIJALA I TO BEZ ŠTRIKANJA I ŠIVENJA!\nDobro došli u avanturu zvanu „nuno felting“\nNa radionici ćemo izraditi šal u tehnici nuno feltinga. Na osnovu od najfinije merino vune ćemo naneti komade svile\, razne vrste prediva i viskoznih vlakana praveći kompoziciju po izboru. Ovaj način rada najviše podseća na pačvork tehniku. Razlika je u tome što nema prišivanja\, već vuna\,  koja se ponaša slično lepku\, prilikom procesa pustovanja sve to povezuje u jednu celinu. \nNuno felting  je naziv za tehniku koju je izmislila Polly Stirling\, umetnik iz Australije. “Nuno “ je japanska reč koja označava odeću. Za razliku od predmeta koji nastaju samo od vune\, nuno feltind pruža daleko veće mogućnosti za dobijanje laganih\, a opet čvrstih materijala. To bi bila ta magija pustovanja\, jer se često ne može predvideti kakav će ishod biti.U procesu valjanja materijali deluju jedni na druge te u takvoj simbiozi oni dobijaju nove osobine.  Vunena vlakna prodiru kroz svilu Ii slične materijale I stvaraju potpuno drugačije teksture zbog faktora skupljanja. Bogtstvo novih površina I oblika koje možemo stvoriti predstavlja stalni izazov. \nPustovanje vune je drevna tehnika starija od tkanja. Od iščešljane vune se uz pomoć sapuna\, vode i mehaničkog delovanja\, dobija pust\, vuneno platno. \nRadionicu vodi Marija Vujčić\, koja se bavi pustovanjem vune više od 10 godina. Počelo je kao hobi\, a od 2018. godine hobi prerasta u biznis „Magda suveniri“. Marija izrađuje predmete od pustovane vune\, drži radionice i obuke u pustovanju.Sav materijal i alat obezbeđen.  Gotove ukrase nosite sa sobom. \nBroj učesnika je ograničen na 2 osobe. \nCena: 3.600 dinara po osobi
URL:http://lemonberrystudio.com/dogadjaj/radionica-izrade-sala-letnje-marame/
ATTACH;FMTTYPE=image/jpeg:http://lemonberrystudio.com/wp-content/uploads/2022/07/Sal-plavo-roze.jpg
END:VEVENT
BEGIN:VEVENT
DTSTART;TZID=Europe/Belgrade:20220827T170000
DTEND;TZID=Europe/Belgrade:20220827T210000
DTSTAMP:20260423T104209
CREATED:20220728T171739Z
LAST-MODIFIED:20220728T221710Z
UID:4358-1661619600-1661634000@lemonberrystudio.com
SUMMARY:SLIKANJE ZLATOM
DESCRIPTION:Instruktorka Marija će vas voditi  korak po korak kroz proces stvaranja slike koju ćete izraditi na slikarskom platnu uz pomoć akrilnih boja i zlatnih ili srebrnih listića. \nCena uključuje kompletan materijal i alat\, stručne instrukcije i posluženje. A gotov rad nosite sa sobom isto veče. \nCena:  2.800 din po osobi \nRadionica se održava za grupe od 6 – 10 osoba.
URL:http://lemonberrystudio.com/dogadjaj/slikanje-sa-zlatom/
ATTACH;FMTTYPE=image/jpeg:http://lemonberrystudio.com/wp-content/uploads/2022/07/Zlato-Sunce.jpg
END:VEVENT
BEGIN:VEVENT
DTSTART;VALUE=DATE:20220830
DTEND;VALUE=DATE:20220831
DTSTAMP:20260423T104209
CREATED:20220728T170645Z
LAST-MODIFIED:20220728T170645Z
UID:4345-1661817600-1661903999@lemonberrystudio.com
SUMMARY:DEVOJAČKO VEČE 💖
DESCRIPTION:
URL:http://lemonberrystudio.com/dogadjaj/devojacko-vece-%f0%9f%92%96/
END:VEVENT
END:VCALENDAR